BEGIN:VCALENDAR
VERSION:2.0
PRODID:-//Fusion Superplex - ECPv6.15.20//NONSGML v1.0//EN
CALSCALE:GREGORIAN
METHOD:PUBLISH
X-WR-CALNAME:Fusion Superplex
X-ORIGINAL-URL:https://www.fusionsuperplex.co
X-WR-CALDESC:Events for Fusion Superplex
REFRESH-INTERVAL;VALUE=DURATION:PT1H
X-Robots-Tag:noindex
X-PUBLISHED-TTL:PT1H
BEGIN:VTIMEZONE
TZID:America/Nassau
BEGIN:DAYLIGHT
TZOFFSETFROM:-0500
TZOFFSETTO:-0400
TZNAME:EDT
DTSTART:20240310T070000
END:DAYLIGHT
BEGIN:STANDARD
TZOFFSETFROM:-0400
TZOFFSETTO:-0500
TZNAME:EST
DTSTART:20241103T060000
END:STANDARD
BEGIN:DAYLIGHT
TZOFFSETFROM:-0500
TZOFFSETTO:-0400
TZNAME:EDT
DTSTART:20250309T070000
END:DAYLIGHT
BEGIN:STANDARD
TZOFFSETFROM:-0400
TZOFFSETTO:-0500
TZNAME:EST
DTSTART:20251102T060000
END:STANDARD
BEGIN:DAYLIGHT
TZOFFSETFROM:-0500
TZOFFSETTO:-0400
TZNAME:EDT
DTSTART:20260308T070000
END:DAYLIGHT
BEGIN:STANDARD
TZOFFSETFROM:-0400
TZOFFSETTO:-0500
TZNAME:EST
DTSTART:20261101T060000
END:STANDARD
END:VTIMEZONE
BEGIN:VEVENT
DTSTART;TZID=America/Nassau:20251213T100000
DTEND;TZID=America/Nassau:20251214T220000
DTSTAMP:20260425T142928
CREATED:20251003T230431Z
LAST-MODIFIED:20251005T203314Z
UID:1492-1765620000-1765749600@www.fusionsuperplex.co
SUMMARY:Inferno Gaming Tournament 2025
DESCRIPTION:
URL:https://www.fusionsuperplex.co/event/inferno-gaming-tournament-2025/
LOCATION:Fusion Superplex\, Gladstone Road\, Nassau\, New Providence\, 00000\, Bahamas
END:VEVENT
BEGIN:VEVENT
DTSTART;VALUE=DATE:20250628
DTEND;VALUE=DATE:20250630
DTSTAMP:20260425T142928
CREATED:20250512T172551Z
LAST-MODIFIED:20250521T170023Z
UID:1233-1751068800-1751241599@www.fusionsuperplex.co
SUMMARY:Crash Out
DESCRIPTION:
URL:https://www.fusionsuperplex.co/event/crash-out/
LOCATION:Fusion Superplex\, Gladstone Road\, Nassau\, New Providence\, 00000\, Bahamas
END:VEVENT
END:VCALENDAR